BEGIN:VCALENDAR
VERSION:2.0
PRODID:-//Moody AFB - ECPv6.15.20//NONSGML v1.0//EN
CALSCALE:GREGORIAN
METHOD:PUBLISH
X-ORIGINAL-URL:https://moody23fss.com
X-WR-CALDESC:Events for Moody AFB
REFRESH-INTERVAL;VALUE=DURATION:PT1H
X-Robots-Tag:noindex
X-PUBLISHED-TTL:PT1H
BEGIN:VTIMEZONE
TZID:America/New_York
BEGIN:DAYLIGHT
TZOFFSETFROM:-0500
TZOFFSETTO:-0400
TZNAME:EDT
DTSTART:20260308T070000
END:DAYLIGHT
BEGIN:STANDARD
TZOFFSETFROM:-0400
TZOFFSETTO:-0500
TZNAME:EST
DTSTART:20261101T060000
END:STANDARD
BEGIN:DAYLIGHT
TZOFFSETFROM:-0500
TZOFFSETTO:-0400
TZNAME:EDT
DTSTART:20270314T070000
END:DAYLIGHT
BEGIN:STANDARD
TZOFFSETFROM:-0400
TZOFFSETTO:-0500
TZNAME:EST
DTSTART:20271107T060000
END:STANDARD
BEGIN:DAYLIGHT
TZOFFSETFROM:-0500
TZOFFSETTO:-0400
TZNAME:EDT
DTSTART:20280312T070000
END:DAYLIGHT
BEGIN:STANDARD
TZOFFSETFROM:-0400
TZOFFSETTO:-0500
TZNAME:EST
DTSTART:20281105T060000
END:STANDARD
END:VTIMEZONE
BEGIN:VEVENT
DTSTART;TZID=America/New_York:20270301T120000
DTEND;TZID=America/New_York:20270301T130000
DTSTAMP:20260420T032429
CREATED:20250522T123914Z
LAST-MODIFIED:20260304T205110Z
UID:10004998-1803902400-1803906000@moody23fss.com
SUMMARY:Zumba with Jess
DESCRIPTION:Join us at the FAC for Zumba with Jess! Get ready to dance\, sweat\, and smile. This high-energy class blends Latin rhythms and easy-to-follow moves for a fun\, full body workout. All levels are welcome! \nFor more information\, call (229) 257-1621
URL:https://moody23fss.com/event/zumba-with-jess/2027-03-01/
LOCATION:FAC\, 4851 Burrell St Bldg 400B\, Moody AFB\, 31699\, United States
CATEGORIES:Fitness
ATTACH;FMTTYPE=image/png:https://moody23fss.com/wp-content/uploads/2025/05/zumba-3.png
END:VEVENT
BEGIN:VEVENT
DTSTART;TZID=America/New_York:20270302T050000
DTEND;TZID=America/New_York:20270302T060000
DTSTAMP:20260420T032429
CREATED:20260327T125751Z
LAST-MODIFIED:20260327T143743Z
UID:10005160-1803963600-1803967200@moody23fss.com
SUMMARY:CrossFit with Chrisha
DESCRIPTION:Free\, hour-long CrossFit classes led by a certified CrossFit coach. Open to athletes of all levels\, 16 years and older. Must register to participate: https://calendly.com/moodyafbfitness/crossfit-moody \nFreedom I Fitness Center/CrossFit Moody is an official CrossFit affiliate.
URL:https://moody23fss.com/event/crossfit-with-chrisha/2027-03-02/
LOCATION:Freedom I Fitness Center\, 4851 Burrel St\, Moody Air Force Base\, GA\, 31699\, United States
CATEGORIES:Fitness
ATTACH;FMTTYPE=image/png:https://moody23fss.com/wp-content/uploads/2026/03/crossfit-1920-x-1080-px-2.png
END:VEVENT
BEGIN:VEVENT
DTSTART;TZID=America/New_York:20270302T070000
DTEND;TZID=America/New_York:20270302T080000
DTSTAMP:20260420T032429
CREATED:20240814T134301Z
LAST-MODIFIED:20241211T132640Z
UID:10004999-1803970800-1803974400@moody23fss.com
SUMMARY:Fitness Improvement Program
DESCRIPTION:Join us at the Moody Fitness Center for the Fitness Improvement Program. This program is specifically designed for airmen who need additional assistance with meeting annual PFA & BCP standards. \nDuring the group FIP sessions\, the OST Strength & Conditioning Coach will provide:\n– Initial total body movement assessment\n– 90-day total body training programming\n– Run programming & planning guidance\n– Instruction on proper execution of fundamental movement patterns\n– Run/gait analysis & technique improvement\n– Individualized correctives as needed \nFor more information\, call (229) 257-1621
URL:https://moody23fss.com/event/fitness-improvement-program/2027-03-02/
LOCATION:Moody AFB Fitness Center\, 4851 Burrel St\, Bldg 404\, Valdosta\, GA\, 31699\, United States
CATEGORIES:Fitness
ATTACH;FMTTYPE=image/png:https://moody23fss.com/wp-content/uploads/2024/08/fitness-program-2024-landscape-02.png
END:VEVENT
BEGIN:VEVENT
DTSTART;TZID=America/New_York:20270302T090000
DTEND;TZID=America/New_York:20270302T100000
DTSTAMP:20260420T032429
CREATED:20240814T131957Z
LAST-MODIFIED:20241211T132604Z
UID:10005000-1803978000-1803981600@moody23fss.com
SUMMARY:Family Fit Camp
DESCRIPTION:Join us at Moody AFB Fitness Center for Family Fit Camp! All fitness and age levels welcome! \nClasses are FREE to attend \nAll you need is:\nWater\nGreat Energy\nA Friend \nFor more information\, call (229) 257-1621
URL:https://moody23fss.com/event/family-fit-camp/2027-03-02/
LOCATION:Moody AFB Fitness Center\, 4851 Burrel St\, Bldg 404\, Valdosta\, GA\, 31699\, United States
CATEGORIES:Fitness
ATTACH;FMTTYPE=image/jpeg:https://moody23fss.com/wp-content/uploads/2024/08/FamilyFitcamp-01-scaled.jpg
END:VEVENT
BEGIN:VEVENT
DTSTART;TZID=America/New_York:20270302T100000
DTEND;TZID=America/New_York:20270302T110000
DTSTAMP:20260420T032429
CREATED:20241010T185829Z
LAST-MODIFIED:20241125T210813Z
UID:10005001-1803981600-1803985200@moody23fss.com
SUMMARY:Story Time
DESCRIPTION:Join us at the Moody Library for Story Time\, where each week we explore a new book theme through exciting stories and activities. It’s the perfect way for children to discover the magic of reading! \nFor more information\, call (229) 257-3539
URL:https://moody23fss.com/event/story-time-5/2027-03-02/
LOCATION:Library\, 480 5th St bldg 2610\, Mountain Home AFB\, Idaho\, 83648\, United States
CATEGORIES:Library
ATTACH;FMTTYPE=image/png:https://moody23fss.com/wp-content/uploads/2024/10/Green-And-White-Illustration-Book-Fair-Instagram-Post-2.png
END:VEVENT
BEGIN:VEVENT
DTSTART;TZID=America/New_York:20270302T110000
DTEND;TZID=America/New_York:20270302T133000
DTSTAMP:20260420T032429
CREATED:20240731T144658Z
LAST-MODIFIED:20251208T133953Z
UID:10005002-1803985200-1803994200@moody23fss.com
SUMMARY:Taco Tuesday
DESCRIPTION:Stop by The Moody Field Club for Taco Tuesday\, every Tuesday between the hours of 11:00 am – 1:30 pm. Have your choice of a taco bowl\, burrito\, two soft shell tacos with one side\, or a nacho plate! \nFor more information\, call (229) 257-3792
URL:https://moody23fss.com/event/taco-tuesday/2027-03-02/
LOCATION:The Moody Field Club\, 4251 George St\, Moody AFB\, GA\, 31699
CATEGORIES:Food
ATTACH;FMTTYPE=image/png:https://moody23fss.com/wp-content/uploads/2024/07/2024-Club-Taco-Tuesday-01.png
END:VEVENT
BEGIN:VEVENT
DTSTART;TZID=America/New_York:20270302T171500
DTEND;TZID=America/New_York:20270302T183000
DTSTAMP:20260420T032429
CREATED:20250522T123526Z
LAST-MODIFIED:20260227T185500Z
UID:10005003-1804007700-1804012200@moody23fss.com
SUMMARY:Yoga with Jess
DESCRIPTION:Join at the Air Park for yoga with Jess! Find your flow and reconnect with your breath\, this calming yet empowering class blends gentle movement\, stretching\, and mindfulness to help build strength\, flexibility\, and inner pease. All levels are welcome\, bring water and a mat if you have it! Ages 16+ \nFor more information\, call (229) 257-1621
URL:https://moody23fss.com/event/yoga-with-jess/2027-03-02/
LOCATION:The Air Park\, Flying Tiger Way\, Moody AFB\, GA\, 31699\, United States
CATEGORIES:Fitness
ATTACH;FMTTYPE=image/png:https://moody23fss.com/wp-content/uploads/2025/05/yoga.png
END:VEVENT
BEGIN:VEVENT
DTSTART;TZID=America/New_York:20270303T110000
DTEND;TZID=America/New_York:20270303T133000
DTSTAMP:20260420T032429
CREATED:20240731T133330Z
LAST-MODIFIED:20260223T141147Z
UID:10005005-1804071600-1804080600@moody23fss.com
SUMMARY:Mongolian
DESCRIPTION:Stop by The Moody Field Club for some Mongolian BBQ! Have your choice of pork\, chicken\, or beef served with fried rice\, steamed rice\, wheat noodles\, or rice noodles. Every Wednesday | 11:00 am – 1:30 pm! \n*Vegetarian option available \n 
URL:https://moody23fss.com/event/mongolian/2027-03-03/
LOCATION:The Moody Field Club\, 4251 George St\, Moody AFB\, GA\, 31699
CATEGORIES:Food
ATTACH;FMTTYPE=image/png:https://moody23fss.com/wp-content/uploads/2024/07/mongolian-16x20-1-scaled.png
END:VEVENT
BEGIN:VEVENT
DTSTART;TZID=America/New_York:20270303T160000
DTEND;TZID=America/New_York:20270303T190000
DTSTAMP:20260420T032429
CREATED:20241010T175922Z
LAST-MODIFIED:20260306T140517Z
UID:10005006-1804089600-1804100400@moody23fss.com
SUMMARY:Wing Wednesday
DESCRIPTION:Join us every Wednesday at the Moody Field Club for a wing-tastic time! Enjoy 90¢ wings with 11 sauces to choose from! \nSauces: \n\n\n\nHot\nMild\nBBQ\nCajun\nHoney Mustard\nTeriyaki\nLemon Pepper\nSignature CL Sauce\nCaesar\nNuk’s Horsey Sauce\nGarlic Parmesan
URL:https://moody23fss.com/event/wing-wednesday/2027-03-03/
LOCATION:The Moody Field Club\, 4251 George St\, Moody AFB\, GA\, 31699
CATEGORIES:Food
ATTACH;FMTTYPE=image/png:https://moody23fss.com/wp-content/uploads/2024/10/Wing-Wednesday.png
END:VEVENT
BEGIN:VEVENT
DTSTART;TZID=America/New_York:20270304T050000
DTEND;TZID=America/New_York:20270304T060000
DTSTAMP:20260420T032429
CREATED:20260327T125751Z
LAST-MODIFIED:20260327T143743Z
UID:10005161-1804136400-1804140000@moody23fss.com
SUMMARY:CrossFit with Chrisha
DESCRIPTION:Free\, hour-long CrossFit classes led by a certified CrossFit coach. Open to athletes of all levels\, 16 years and older. Must register to participate: https://calendly.com/moodyafbfitness/crossfit-moody \nFreedom I Fitness Center/CrossFit Moody is an official CrossFit affiliate.
URL:https://moody23fss.com/event/crossfit-with-chrisha/2027-03-04/
LOCATION:Freedom I Fitness Center\, 4851 Burrel St\, Moody Air Force Base\, GA\, 31699\, United States
CATEGORIES:Fitness
ATTACH;FMTTYPE=image/png:https://moody23fss.com/wp-content/uploads/2026/03/crossfit-1920-x-1080-px-2.png
END:VEVENT
BEGIN:VEVENT
DTSTART;TZID=America/New_York:20270304T070000
DTEND;TZID=America/New_York:20270304T080000
DTSTAMP:20260420T032429
CREATED:20240814T134301Z
LAST-MODIFIED:20241211T132640Z
UID:10005007-1804143600-1804147200@moody23fss.com
SUMMARY:Fitness Improvement Program
DESCRIPTION:Join us at the Moody Fitness Center for the Fitness Improvement Program. This program is specifically designed for airmen who need additional assistance with meeting annual PFA & BCP standards. \nDuring the group FIP sessions\, the OST Strength & Conditioning Coach will provide:\n– Initial total body movement assessment\n– 90-day total body training programming\n– Run programming & planning guidance\n– Instruction on proper execution of fundamental movement patterns\n– Run/gait analysis & technique improvement\n– Individualized correctives as needed \nFor more information\, call (229) 257-1621
URL:https://moody23fss.com/event/fitness-improvement-program/2027-03-04/
LOCATION:Moody AFB Fitness Center\, 4851 Burrel St\, Bldg 404\, Valdosta\, GA\, 31699\, United States
CATEGORIES:Fitness
ATTACH;FMTTYPE=image/png:https://moody23fss.com/wp-content/uploads/2024/08/fitness-program-2024-landscape-02.png
END:VEVENT
BEGIN:VEVENT
DTSTART;TZID=America/New_York:20270304T090000
DTEND;TZID=America/New_York:20270304T100000
DTSTAMP:20260420T032429
CREATED:20240814T131957Z
LAST-MODIFIED:20241211T132604Z
UID:10005008-1804150800-1804154400@moody23fss.com
SUMMARY:Family Fit Camp
DESCRIPTION:Join us at Moody AFB Fitness Center for Family Fit Camp! All fitness and age levels welcome! \nClasses are FREE to attend \nAll you need is:\nWater\nGreat Energy\nA Friend \nFor more information\, call (229) 257-1621
URL:https://moody23fss.com/event/family-fit-camp/2027-03-04/
LOCATION:Moody AFB Fitness Center\, 4851 Burrel St\, Bldg 404\, Valdosta\, GA\, 31699\, United States
CATEGORIES:Fitness
ATTACH;FMTTYPE=image/jpeg:https://moody23fss.com/wp-content/uploads/2024/08/FamilyFitcamp-01-scaled.jpg
END:VEVENT
BEGIN:VEVENT
DTSTART;TZID=America/New_York:20270306T130000
DTEND;TZID=America/New_York:20270306T190000
DTSTAMP:20260420T032429
CREATED:20250416T174101Z
LAST-MODIFIED:20251230T174620Z
UID:10005030-1804338000-1804359600@moody23fss.com
SUMMARY:Deck Duel Saturdays
DESCRIPTION:Saturdays are for deck gaming! Be it Magic: The Gathering\, Pokémon\, Yu-Gi-Oh or even Lorcana\, bring your cards and play with friends.
URL:https://moody23fss.com/event/deck-duel-saturdays/2027-03-06/
LOCATION:GA
CATEGORIES:Fun
ATTACH;FMTTYPE=image/png:https://moody23fss.com/wp-content/uploads/2025/04/Deck-Duel-scaled.png
END:VEVENT
BEGIN:VEVENT
DTSTART;TZID=America/New_York:20270308T120000
DTEND;TZID=America/New_York:20270308T130000
DTSTAMP:20260420T032429
CREATED:20250522T123914Z
LAST-MODIFIED:20260304T205110Z
UID:10005031-1804507200-1804510800@moody23fss.com
SUMMARY:Zumba with Jess
DESCRIPTION:Join us at the FAC for Zumba with Jess! Get ready to dance\, sweat\, and smile. This high-energy class blends Latin rhythms and easy-to-follow moves for a fun\, full body workout. All levels are welcome! \nFor more information\, call (229) 257-1621
URL:https://moody23fss.com/event/zumba-with-jess/2027-03-08/
LOCATION:FAC\, 4851 Burrell St Bldg 400B\, Moody AFB\, 31699\, United States
CATEGORIES:Fitness
ATTACH;FMTTYPE=image/png:https://moody23fss.com/wp-content/uploads/2025/05/zumba-3.png
END:VEVENT
BEGIN:VEVENT
DTSTART;TZID=America/New_York:20270309T050000
DTEND;TZID=America/New_York:20270309T060000
DTSTAMP:20260420T032429
CREATED:20260327T125751Z
LAST-MODIFIED:20260327T143743Z
UID:10005162-1804568400-1804572000@moody23fss.com
SUMMARY:CrossFit with Chrisha
DESCRIPTION:Free\, hour-long CrossFit classes led by a certified CrossFit coach. Open to athletes of all levels\, 16 years and older. Must register to participate: https://calendly.com/moodyafbfitness/crossfit-moody \nFreedom I Fitness Center/CrossFit Moody is an official CrossFit affiliate.
URL:https://moody23fss.com/event/crossfit-with-chrisha/2027-03-09/
LOCATION:Freedom I Fitness Center\, 4851 Burrel St\, Moody Air Force Base\, GA\, 31699\, United States
CATEGORIES:Fitness
ATTACH;FMTTYPE=image/png:https://moody23fss.com/wp-content/uploads/2026/03/crossfit-1920-x-1080-px-2.png
END:VEVENT
BEGIN:VEVENT
DTSTART;TZID=America/New_York:20270309T070000
DTEND;TZID=America/New_York:20270309T080000
DTSTAMP:20260420T032429
CREATED:20240814T134301Z
LAST-MODIFIED:20241211T132640Z
UID:10005032-1804575600-1804579200@moody23fss.com
SUMMARY:Fitness Improvement Program
DESCRIPTION:Join us at the Moody Fitness Center for the Fitness Improvement Program. This program is specifically designed for airmen who need additional assistance with meeting annual PFA & BCP standards. \nDuring the group FIP sessions\, the OST Strength & Conditioning Coach will provide:\n– Initial total body movement assessment\n– 90-day total body training programming\n– Run programming & planning guidance\n– Instruction on proper execution of fundamental movement patterns\n– Run/gait analysis & technique improvement\n– Individualized correctives as needed \nFor more information\, call (229) 257-1621
URL:https://moody23fss.com/event/fitness-improvement-program/2027-03-09/
LOCATION:Moody AFB Fitness Center\, 4851 Burrel St\, Bldg 404\, Valdosta\, GA\, 31699\, United States
CATEGORIES:Fitness
ATTACH;FMTTYPE=image/png:https://moody23fss.com/wp-content/uploads/2024/08/fitness-program-2024-landscape-02.png
END:VEVENT
BEGIN:VEVENT
DTSTART;TZID=America/New_York:20270309T090000
DTEND;TZID=America/New_York:20270309T100000
DTSTAMP:20260420T032429
CREATED:20240814T131957Z
LAST-MODIFIED:20241211T132604Z
UID:10005033-1804582800-1804586400@moody23fss.com
SUMMARY:Family Fit Camp
DESCRIPTION:Join us at Moody AFB Fitness Center for Family Fit Camp! All fitness and age levels welcome! \nClasses are FREE to attend \nAll you need is:\nWater\nGreat Energy\nA Friend \nFor more information\, call (229) 257-1621
URL:https://moody23fss.com/event/family-fit-camp/2027-03-09/
LOCATION:Moody AFB Fitness Center\, 4851 Burrel St\, Bldg 404\, Valdosta\, GA\, 31699\, United States
CATEGORIES:Fitness
ATTACH;FMTTYPE=image/jpeg:https://moody23fss.com/wp-content/uploads/2024/08/FamilyFitcamp-01-scaled.jpg
END:VEVENT
BEGIN:VEVENT
DTSTART;TZID=America/New_York:20270309T100000
DTEND;TZID=America/New_York:20270309T110000
DTSTAMP:20260420T032429
CREATED:20241010T185829Z
LAST-MODIFIED:20241125T210813Z
UID:10005034-1804586400-1804590000@moody23fss.com
SUMMARY:Story Time
DESCRIPTION:Join us at the Moody Library for Story Time\, where each week we explore a new book theme through exciting stories and activities. It’s the perfect way for children to discover the magic of reading! \nFor more information\, call (229) 257-3539
URL:https://moody23fss.com/event/story-time-5/2027-03-09/
LOCATION:Library\, 480 5th St bldg 2610\, Mountain Home AFB\, Idaho\, 83648\, United States
CATEGORIES:Library
ATTACH;FMTTYPE=image/png:https://moody23fss.com/wp-content/uploads/2024/10/Green-And-White-Illustration-Book-Fair-Instagram-Post-2.png
END:VEVENT
BEGIN:VEVENT
DTSTART;TZID=America/New_York:20270309T110000
DTEND;TZID=America/New_York:20270309T133000
DTSTAMP:20260420T032429
CREATED:20240731T144658Z
LAST-MODIFIED:20251208T133953Z
UID:10005035-1804590000-1804599000@moody23fss.com
SUMMARY:Taco Tuesday
DESCRIPTION:Stop by The Moody Field Club for Taco Tuesday\, every Tuesday between the hours of 11:00 am – 1:30 pm. Have your choice of a taco bowl\, burrito\, two soft shell tacos with one side\, or a nacho plate! \nFor more information\, call (229) 257-3792
URL:https://moody23fss.com/event/taco-tuesday/2027-03-09/
LOCATION:The Moody Field Club\, 4251 George St\, Moody AFB\, GA\, 31699
CATEGORIES:Food
ATTACH;FMTTYPE=image/png:https://moody23fss.com/wp-content/uploads/2024/07/2024-Club-Taco-Tuesday-01.png
END:VEVENT
BEGIN:VEVENT
DTSTART;TZID=America/New_York:20270309T171500
DTEND;TZID=America/New_York:20270309T183000
DTSTAMP:20260420T032429
CREATED:20250522T123526Z
LAST-MODIFIED:20260227T185500Z
UID:10005036-1804612500-1804617000@moody23fss.com
SUMMARY:Yoga with Jess
DESCRIPTION:Join at the Air Park for yoga with Jess! Find your flow and reconnect with your breath\, this calming yet empowering class blends gentle movement\, stretching\, and mindfulness to help build strength\, flexibility\, and inner pease. All levels are welcome\, bring water and a mat if you have it! Ages 16+ \nFor more information\, call (229) 257-1621
URL:https://moody23fss.com/event/yoga-with-jess/2027-03-09/
LOCATION:The Air Park\, Flying Tiger Way\, Moody AFB\, GA\, 31699\, United States
CATEGORIES:Fitness
ATTACH;FMTTYPE=image/png:https://moody23fss.com/wp-content/uploads/2025/05/yoga.png
END:VEVENT
BEGIN:VEVENT
DTSTART;TZID=America/New_York:20270310T110000
DTEND;TZID=America/New_York:20270310T133000
DTSTAMP:20260420T032429
CREATED:20240731T133330Z
LAST-MODIFIED:20260223T141147Z
UID:10005037-1804676400-1804685400@moody23fss.com
SUMMARY:Mongolian
DESCRIPTION:Stop by The Moody Field Club for some Mongolian BBQ! Have your choice of pork\, chicken\, or beef served with fried rice\, steamed rice\, wheat noodles\, or rice noodles. Every Wednesday | 11:00 am – 1:30 pm! \n*Vegetarian option available \n 
URL:https://moody23fss.com/event/mongolian/2027-03-10/
LOCATION:The Moody Field Club\, 4251 George St\, Moody AFB\, GA\, 31699
CATEGORIES:Food
ATTACH;FMTTYPE=image/png:https://moody23fss.com/wp-content/uploads/2024/07/mongolian-16x20-1-scaled.png
END:VEVENT
BEGIN:VEVENT
DTSTART;TZID=America/New_York:20270310T160000
DTEND;TZID=America/New_York:20270310T190000
DTSTAMP:20260420T032429
CREATED:20241010T175922Z
LAST-MODIFIED:20260306T140517Z
UID:10005038-1804694400-1804705200@moody23fss.com
SUMMARY:Wing Wednesday
DESCRIPTION:Join us every Wednesday at the Moody Field Club for a wing-tastic time! Enjoy 90¢ wings with 11 sauces to choose from! \nSauces: \n\n\n\nHot\nMild\nBBQ\nCajun\nHoney Mustard\nTeriyaki\nLemon Pepper\nSignature CL Sauce\nCaesar\nNuk’s Horsey Sauce\nGarlic Parmesan
URL:https://moody23fss.com/event/wing-wednesday/2027-03-10/
LOCATION:The Moody Field Club\, 4251 George St\, Moody AFB\, GA\, 31699
CATEGORIES:Food
ATTACH;FMTTYPE=image/png:https://moody23fss.com/wp-content/uploads/2024/10/Wing-Wednesday.png
END:VEVENT
BEGIN:VEVENT
DTSTART;TZID=America/New_York:20270311T050000
DTEND;TZID=America/New_York:20270311T060000
DTSTAMP:20260420T032429
CREATED:20260327T125751Z
LAST-MODIFIED:20260327T143743Z
UID:10005163-1804741200-1804744800@moody23fss.com
SUMMARY:CrossFit with Chrisha
DESCRIPTION:Free\, hour-long CrossFit classes led by a certified CrossFit coach. Open to athletes of all levels\, 16 years and older. Must register to participate: https://calendly.com/moodyafbfitness/crossfit-moody \nFreedom I Fitness Center/CrossFit Moody is an official CrossFit affiliate.
URL:https://moody23fss.com/event/crossfit-with-chrisha/2027-03-11/
LOCATION:Freedom I Fitness Center\, 4851 Burrel St\, Moody Air Force Base\, GA\, 31699\, United States
CATEGORIES:Fitness
ATTACH;FMTTYPE=image/png:https://moody23fss.com/wp-content/uploads/2026/03/crossfit-1920-x-1080-px-2.png
END:VEVENT
BEGIN:VEVENT
DTSTART;TZID=America/New_York:20270311T070000
DTEND;TZID=America/New_York:20270311T080000
DTSTAMP:20260420T032429
CREATED:20240814T134301Z
LAST-MODIFIED:20241211T132640Z
UID:10005039-1804748400-1804752000@moody23fss.com
SUMMARY:Fitness Improvement Program
DESCRIPTION:Join us at the Moody Fitness Center for the Fitness Improvement Program. This program is specifically designed for airmen who need additional assistance with meeting annual PFA & BCP standards. \nDuring the group FIP sessions\, the OST Strength & Conditioning Coach will provide:\n– Initial total body movement assessment\n– 90-day total body training programming\n– Run programming & planning guidance\n– Instruction on proper execution of fundamental movement patterns\n– Run/gait analysis & technique improvement\n– Individualized correctives as needed \nFor more information\, call (229) 257-1621
URL:https://moody23fss.com/event/fitness-improvement-program/2027-03-11/
LOCATION:Moody AFB Fitness Center\, 4851 Burrel St\, Bldg 404\, Valdosta\, GA\, 31699\, United States
CATEGORIES:Fitness
ATTACH;FMTTYPE=image/png:https://moody23fss.com/wp-content/uploads/2024/08/fitness-program-2024-landscape-02.png
END:VEVENT
BEGIN:VEVENT
DTSTART;TZID=America/New_York:20270311T090000
DTEND;TZID=America/New_York:20270311T100000
DTSTAMP:20260420T032429
CREATED:20240814T131957Z
LAST-MODIFIED:20241211T132604Z
UID:10005040-1804755600-1804759200@moody23fss.com
SUMMARY:Family Fit Camp
DESCRIPTION:Join us at Moody AFB Fitness Center for Family Fit Camp! All fitness and age levels welcome! \nClasses are FREE to attend \nAll you need is:\nWater\nGreat Energy\nA Friend \nFor more information\, call (229) 257-1621
URL:https://moody23fss.com/event/family-fit-camp/2027-03-11/
LOCATION:Moody AFB Fitness Center\, 4851 Burrel St\, Bldg 404\, Valdosta\, GA\, 31699\, United States
CATEGORIES:Fitness
ATTACH;FMTTYPE=image/jpeg:https://moody23fss.com/wp-content/uploads/2024/08/FamilyFitcamp-01-scaled.jpg
END:VEVENT
BEGIN:VEVENT
DTSTART;TZID=America/New_York:20270313T130000
DTEND;TZID=America/New_York:20270313T190000
DTSTAMP:20260420T032429
CREATED:20250416T174101Z
LAST-MODIFIED:20251230T174620Z
UID:10005042-1804942800-1804964400@moody23fss.com
SUMMARY:Deck Duel Saturdays
DESCRIPTION:Saturdays are for deck gaming! Be it Magic: The Gathering\, Pokémon\, Yu-Gi-Oh or even Lorcana\, bring your cards and play with friends.
URL:https://moody23fss.com/event/deck-duel-saturdays/2027-03-13/
LOCATION:GA
CATEGORIES:Fun
ATTACH;FMTTYPE=image/png:https://moody23fss.com/wp-content/uploads/2025/04/Deck-Duel-scaled.png
END:VEVENT
BEGIN:VEVENT
DTSTART;TZID=America/New_York:20270315T120000
DTEND;TZID=America/New_York:20270315T130000
DTSTAMP:20260420T032429
CREATED:20250522T123914Z
LAST-MODIFIED:20260304T205110Z
UID:10005043-1805112000-1805115600@moody23fss.com
SUMMARY:Zumba with Jess
DESCRIPTION:Join us at the FAC for Zumba with Jess! Get ready to dance\, sweat\, and smile. This high-energy class blends Latin rhythms and easy-to-follow moves for a fun\, full body workout. All levels are welcome! \nFor more information\, call (229) 257-1621
URL:https://moody23fss.com/event/zumba-with-jess/2027-03-15/
LOCATION:FAC\, 4851 Burrell St Bldg 400B\, Moody AFB\, 31699\, United States
CATEGORIES:Fitness
ATTACH;FMTTYPE=image/png:https://moody23fss.com/wp-content/uploads/2025/05/zumba-3.png
END:VEVENT
BEGIN:VEVENT
DTSTART;TZID=America/New_York:20270316T050000
DTEND;TZID=America/New_York:20270316T060000
DTSTAMP:20260420T032429
CREATED:20260327T125751Z
LAST-MODIFIED:20260327T143743Z
UID:10005164-1805173200-1805176800@moody23fss.com
SUMMARY:CrossFit with Chrisha
DESCRIPTION:Free\, hour-long CrossFit classes led by a certified CrossFit coach. Open to athletes of all levels\, 16 years and older. Must register to participate: https://calendly.com/moodyafbfitness/crossfit-moody \nFreedom I Fitness Center/CrossFit Moody is an official CrossFit affiliate.
URL:https://moody23fss.com/event/crossfit-with-chrisha/2027-03-16/
LOCATION:Freedom I Fitness Center\, 4851 Burrel St\, Moody Air Force Base\, GA\, 31699\, United States
CATEGORIES:Fitness
ATTACH;FMTTYPE=image/png:https://moody23fss.com/wp-content/uploads/2026/03/crossfit-1920-x-1080-px-2.png
END:VEVENT
BEGIN:VEVENT
DTSTART;TZID=America/New_York:20270316T070000
DTEND;TZID=America/New_York:20270316T080000
DTSTAMP:20260420T032429
CREATED:20240814T134301Z
LAST-MODIFIED:20241211T132640Z
UID:10005044-1805180400-1805184000@moody23fss.com
SUMMARY:Fitness Improvement Program
DESCRIPTION:Join us at the Moody Fitness Center for the Fitness Improvement Program. This program is specifically designed for airmen who need additional assistance with meeting annual PFA & BCP standards. \nDuring the group FIP sessions\, the OST Strength & Conditioning Coach will provide:\n– Initial total body movement assessment\n– 90-day total body training programming\n– Run programming & planning guidance\n– Instruction on proper execution of fundamental movement patterns\n– Run/gait analysis & technique improvement\n– Individualized correctives as needed \nFor more information\, call (229) 257-1621
URL:https://moody23fss.com/event/fitness-improvement-program/2027-03-16/
LOCATION:Moody AFB Fitness Center\, 4851 Burrel St\, Bldg 404\, Valdosta\, GA\, 31699\, United States
CATEGORIES:Fitness
ATTACH;FMTTYPE=image/png:https://moody23fss.com/wp-content/uploads/2024/08/fitness-program-2024-landscape-02.png
END:VEVENT
BEGIN:VEVENT
DTSTART;TZID=America/New_York:20270316T090000
DTEND;TZID=America/New_York:20270316T100000
DTSTAMP:20260420T032429
CREATED:20240814T131957Z
LAST-MODIFIED:20241211T132604Z
UID:10005045-1805187600-1805191200@moody23fss.com
SUMMARY:Family Fit Camp
DESCRIPTION:Join us at Moody AFB Fitness Center for Family Fit Camp! All fitness and age levels welcome! \nClasses are FREE to attend \nAll you need is:\nWater\nGreat Energy\nA Friend \nFor more information\, call (229) 257-1621
URL:https://moody23fss.com/event/family-fit-camp/2027-03-16/
LOCATION:Moody AFB Fitness Center\, 4851 Burrel St\, Bldg 404\, Valdosta\, GA\, 31699\, United States
CATEGORIES:Fitness
ATTACH;FMTTYPE=image/jpeg:https://moody23fss.com/wp-content/uploads/2024/08/FamilyFitcamp-01-scaled.jpg
END:VEVENT
END:VCALENDAR