BEGIN:VCALENDAR
VERSION:2.0
PRODID:-//Moody AFB - ECPv6.15.20//NONSGML v1.0//EN
CALSCALE:GREGORIAN
METHOD:PUBLISH
X-WR-CALNAME:Moody AFB
X-ORIGINAL-URL:https://moody23fss.com
X-WR-CALDESC:Events for Moody AFB
REFRESH-INTERVAL;VALUE=DURATION:PT1H
X-Robots-Tag:noindex
X-PUBLISHED-TTL:PT1H
BEGIN:VTIMEZONE
TZID:America/New_York
BEGIN:DAYLIGHT
TZOFFSETFROM:-0500
TZOFFSETTO:-0400
TZNAME:EDT
DTSTART:20260308T070000
END:DAYLIGHT
BEGIN:STANDARD
TZOFFSETFROM:-0400
TZOFFSETTO:-0500
TZNAME:EST
DTSTART:20261101T060000
END:STANDARD
BEGIN:DAYLIGHT
TZOFFSETFROM:-0500
TZOFFSETTO:-0400
TZNAME:EDT
DTSTART:20270314T070000
END:DAYLIGHT
BEGIN:STANDARD
TZOFFSETFROM:-0400
TZOFFSETTO:-0500
TZNAME:EST
DTSTART:20271107T060000
END:STANDARD
BEGIN:DAYLIGHT
TZOFFSETFROM:-0500
TZOFFSETTO:-0400
TZNAME:EDT
DTSTART:20280312T070000
END:DAYLIGHT
BEGIN:STANDARD
TZOFFSETFROM:-0400
TZOFFSETTO:-0500
TZNAME:EST
DTSTART:20281105T060000
END:STANDARD
END:VTIMEZONE
BEGIN:VEVENT
DTSTART;TZID=America/New_York:20270601T050000
DTEND;TZID=America/New_York:20270601T060000
DTSTAMP:20260422T070736
CREATED:20260327T125751Z
LAST-MODIFIED:20260327T143743Z
UID:10005186-1811826000-1811829600@moody23fss.com
SUMMARY:CrossFit with Chrisha
DESCRIPTION:Free\, hour-long CrossFit classes led by a certified CrossFit coach. Open to athletes of all levels\, 16 years and older. Must register to participate: https://calendly.com/moodyafbfitness/crossfit-moody \nFreedom I Fitness Center/CrossFit Moody is an official CrossFit affiliate.
URL:https://moody23fss.com/event/crossfit-with-chrisha/2027-06-01/
LOCATION:Freedom I Fitness Center\, 4851 Burrel St\, Moody Air Force Base\, GA\, 31699\, United States
CATEGORIES:Fitness
ATTACH;FMTTYPE=image/png:https://moody23fss.com/wp-content/uploads/2026/03/crossfit-1920-x-1080-px-2.png
END:VEVENT
BEGIN:VEVENT
DTSTART;TZID=America/New_York:20270603T050000
DTEND;TZID=America/New_York:20270603T060000
DTSTAMP:20260422T070736
CREATED:20260327T125751Z
LAST-MODIFIED:20260327T143743Z
UID:10005187-1811998800-1812002400@moody23fss.com
SUMMARY:CrossFit with Chrisha
DESCRIPTION:Free\, hour-long CrossFit classes led by a certified CrossFit coach. Open to athletes of all levels\, 16 years and older. Must register to participate: https://calendly.com/moodyafbfitness/crossfit-moody \nFreedom I Fitness Center/CrossFit Moody is an official CrossFit affiliate.
URL:https://moody23fss.com/event/crossfit-with-chrisha/2027-06-03/
LOCATION:Freedom I Fitness Center\, 4851 Burrel St\, Moody Air Force Base\, GA\, 31699\, United States
CATEGORIES:Fitness
ATTACH;FMTTYPE=image/png:https://moody23fss.com/wp-content/uploads/2026/03/crossfit-1920-x-1080-px-2.png
END:VEVENT
BEGIN:VEVENT
DTSTART;TZID=America/New_York:20270608T050000
DTEND;TZID=America/New_York:20270608T060000
DTSTAMP:20260422T070736
CREATED:20260327T125751Z
LAST-MODIFIED:20260327T143743Z
UID:10005188-1812430800-1812434400@moody23fss.com
SUMMARY:CrossFit with Chrisha
DESCRIPTION:Free\, hour-long CrossFit classes led by a certified CrossFit coach. Open to athletes of all levels\, 16 years and older. Must register to participate: https://calendly.com/moodyafbfitness/crossfit-moody \nFreedom I Fitness Center/CrossFit Moody is an official CrossFit affiliate.
URL:https://moody23fss.com/event/crossfit-with-chrisha/2027-06-08/
LOCATION:Freedom I Fitness Center\, 4851 Burrel St\, Moody Air Force Base\, GA\, 31699\, United States
CATEGORIES:Fitness
ATTACH;FMTTYPE=image/png:https://moody23fss.com/wp-content/uploads/2026/03/crossfit-1920-x-1080-px-2.png
END:VEVENT
BEGIN:VEVENT
DTSTART;TZID=America/New_York:20270610T050000
DTEND;TZID=America/New_York:20270610T060000
DTSTAMP:20260422T070736
CREATED:20260327T125751Z
LAST-MODIFIED:20260327T143743Z
UID:10005189-1812603600-1812607200@moody23fss.com
SUMMARY:CrossFit with Chrisha
DESCRIPTION:Free\, hour-long CrossFit classes led by a certified CrossFit coach. Open to athletes of all levels\, 16 years and older. Must register to participate: https://calendly.com/moodyafbfitness/crossfit-moody \nFreedom I Fitness Center/CrossFit Moody is an official CrossFit affiliate.
URL:https://moody23fss.com/event/crossfit-with-chrisha/2027-06-10/
LOCATION:Freedom I Fitness Center\, 4851 Burrel St\, Moody Air Force Base\, GA\, 31699\, United States
CATEGORIES:Fitness
ATTACH;FMTTYPE=image/png:https://moody23fss.com/wp-content/uploads/2026/03/crossfit-1920-x-1080-px-2.png
END:VEVENT
BEGIN:VEVENT
DTSTART;TZID=America/New_York:20270615T050000
DTEND;TZID=America/New_York:20270615T060000
DTSTAMP:20260422T070736
CREATED:20260327T125751Z
LAST-MODIFIED:20260327T143743Z
UID:10005190-1813035600-1813039200@moody23fss.com
SUMMARY:CrossFit with Chrisha
DESCRIPTION:Free\, hour-long CrossFit classes led by a certified CrossFit coach. Open to athletes of all levels\, 16 years and older. Must register to participate: https://calendly.com/moodyafbfitness/crossfit-moody \nFreedom I Fitness Center/CrossFit Moody is an official CrossFit affiliate.
URL:https://moody23fss.com/event/crossfit-with-chrisha/2027-06-15/
LOCATION:Freedom I Fitness Center\, 4851 Burrel St\, Moody Air Force Base\, GA\, 31699\, United States
CATEGORIES:Fitness
ATTACH;FMTTYPE=image/png:https://moody23fss.com/wp-content/uploads/2026/03/crossfit-1920-x-1080-px-2.png
END:VEVENT
BEGIN:VEVENT
DTSTART;TZID=America/New_York:20270617T050000
DTEND;TZID=America/New_York:20270617T060000
DTSTAMP:20260422T070736
CREATED:20260327T125751Z
LAST-MODIFIED:20260327T143743Z
UID:10005191-1813208400-1813212000@moody23fss.com
SUMMARY:CrossFit with Chrisha
DESCRIPTION:Free\, hour-long CrossFit classes led by a certified CrossFit coach. Open to athletes of all levels\, 16 years and older. Must register to participate: https://calendly.com/moodyafbfitness/crossfit-moody \nFreedom I Fitness Center/CrossFit Moody is an official CrossFit affiliate.
URL:https://moody23fss.com/event/crossfit-with-chrisha/2027-06-17/
LOCATION:Freedom I Fitness Center\, 4851 Burrel St\, Moody Air Force Base\, GA\, 31699\, United States
CATEGORIES:Fitness
ATTACH;FMTTYPE=image/png:https://moody23fss.com/wp-content/uploads/2026/03/crossfit-1920-x-1080-px-2.png
END:VEVENT
BEGIN:VEVENT
DTSTART;TZID=America/New_York:20270622T050000
DTEND;TZID=America/New_York:20270622T060000
DTSTAMP:20260422T070736
CREATED:20260327T125751Z
LAST-MODIFIED:20260327T143743Z
UID:10005192-1813640400-1813644000@moody23fss.com
SUMMARY:CrossFit with Chrisha
DESCRIPTION:Free\, hour-long CrossFit classes led by a certified CrossFit coach. Open to athletes of all levels\, 16 years and older. Must register to participate: https://calendly.com/moodyafbfitness/crossfit-moody \nFreedom I Fitness Center/CrossFit Moody is an official CrossFit affiliate.
URL:https://moody23fss.com/event/crossfit-with-chrisha/2027-06-22/
LOCATION:Freedom I Fitness Center\, 4851 Burrel St\, Moody Air Force Base\, GA\, 31699\, United States
CATEGORIES:Fitness
ATTACH;FMTTYPE=image/png:https://moody23fss.com/wp-content/uploads/2026/03/crossfit-1920-x-1080-px-2.png
END:VEVENT
BEGIN:VEVENT
DTSTART;TZID=America/New_York:20270624T050000
DTEND;TZID=America/New_York:20270624T060000
DTSTAMP:20260422T070736
CREATED:20260327T125751Z
LAST-MODIFIED:20260327T143743Z
UID:10005193-1813813200-1813816800@moody23fss.com
SUMMARY:CrossFit with Chrisha
DESCRIPTION:Free\, hour-long CrossFit classes led by a certified CrossFit coach. Open to athletes of all levels\, 16 years and older. Must register to participate: https://calendly.com/moodyafbfitness/crossfit-moody \nFreedom I Fitness Center/CrossFit Moody is an official CrossFit affiliate.
URL:https://moody23fss.com/event/crossfit-with-chrisha/2027-06-24/
LOCATION:Freedom I Fitness Center\, 4851 Burrel St\, Moody Air Force Base\, GA\, 31699\, United States
CATEGORIES:Fitness
ATTACH;FMTTYPE=image/png:https://moody23fss.com/wp-content/uploads/2026/03/crossfit-1920-x-1080-px-2.png
END:VEVENT
BEGIN:VEVENT
DTSTART;TZID=America/New_York:20270629T050000
DTEND;TZID=America/New_York:20270629T060000
DTSTAMP:20260422T070736
CREATED:20260327T125751Z
LAST-MODIFIED:20260327T143743Z
UID:10005194-1814245200-1814248800@moody23fss.com
SUMMARY:CrossFit with Chrisha
DESCRIPTION:Free\, hour-long CrossFit classes led by a certified CrossFit coach. Open to athletes of all levels\, 16 years and older. Must register to participate: https://calendly.com/moodyafbfitness/crossfit-moody \nFreedom I Fitness Center/CrossFit Moody is an official CrossFit affiliate.
URL:https://moody23fss.com/event/crossfit-with-chrisha/2027-06-29/
LOCATION:Freedom I Fitness Center\, 4851 Burrel St\, Moody Air Force Base\, GA\, 31699\, United States
CATEGORIES:Fitness
ATTACH;FMTTYPE=image/png:https://moody23fss.com/wp-content/uploads/2026/03/crossfit-1920-x-1080-px-2.png
END:VEVENT
END:VCALENDAR