BEGIN:VCALENDAR
VERSION:2.0
PRODID:-//Moody AFB - ECPv6.15.20//NONSGML v1.0//EN
CALSCALE:GREGORIAN
METHOD:PUBLISH
X-ORIGINAL-URL:https://moody23fss.com
X-WR-CALDESC:Events for Moody AFB
REFRESH-INTERVAL;VALUE=DURATION:PT1H
X-Robots-Tag:noindex
X-PUBLISHED-TTL:PT1H
BEGIN:VTIMEZONE
TZID:America/New_York
BEGIN:DAYLIGHT
TZOFFSETFROM:-0500
TZOFFSETTO:-0400
TZNAME:EDT
DTSTART:20260308T070000
END:DAYLIGHT
BEGIN:STANDARD
TZOFFSETFROM:-0400
TZOFFSETTO:-0500
TZNAME:EST
DTSTART:20261101T060000
END:STANDARD
BEGIN:DAYLIGHT
TZOFFSETFROM:-0500
TZOFFSETTO:-0400
TZNAME:EDT
DTSTART:20270314T070000
END:DAYLIGHT
BEGIN:STANDARD
TZOFFSETFROM:-0400
TZOFFSETTO:-0500
TZNAME:EST
DTSTART:20271107T060000
END:STANDARD
BEGIN:DAYLIGHT
TZOFFSETFROM:-0500
TZOFFSETTO:-0400
TZNAME:EDT
DTSTART:20280312T070000
END:DAYLIGHT
BEGIN:STANDARD
TZOFFSETFROM:-0400
TZOFFSETTO:-0500
TZNAME:EST
DTSTART:20281105T060000
END:STANDARD
END:VTIMEZONE
BEGIN:VEVENT
DTSTART;TZID=America/New_York:20270701T050000
DTEND;TZID=America/New_York:20270701T060000
DTSTAMP:20260422T065433
CREATED:20260327T125751Z
LAST-MODIFIED:20260327T143743Z
UID:10005195-1814418000-1814421600@moody23fss.com
SUMMARY:CrossFit with Chrisha
DESCRIPTION:Free\, hour-long CrossFit classes led by a certified CrossFit coach. Open to athletes of all levels\, 16 years and older. Must register to participate: https://calendly.com/moodyafbfitness/crossfit-moody \nFreedom I Fitness Center/CrossFit Moody is an official CrossFit affiliate.
URL:https://moody23fss.com/event/crossfit-with-chrisha/2027-07-01/
LOCATION:Freedom I Fitness Center\, 4851 Burrel St\, Moody Air Force Base\, GA\, 31699\, United States
CATEGORIES:Fitness
ATTACH;FMTTYPE=image/png:https://moody23fss.com/wp-content/uploads/2026/03/crossfit-1920-x-1080-px-2.png
END:VEVENT
BEGIN:VEVENT
DTSTART;TZID=America/New_York:20270706T050000
DTEND;TZID=America/New_York:20270706T060000
DTSTAMP:20260422T065433
CREATED:20260327T125751Z
LAST-MODIFIED:20260327T143743Z
UID:10005196-1814850000-1814853600@moody23fss.com
SUMMARY:CrossFit with Chrisha
DESCRIPTION:Free\, hour-long CrossFit classes led by a certified CrossFit coach. Open to athletes of all levels\, 16 years and older. Must register to participate: https://calendly.com/moodyafbfitness/crossfit-moody \nFreedom I Fitness Center/CrossFit Moody is an official CrossFit affiliate.
URL:https://moody23fss.com/event/crossfit-with-chrisha/2027-07-06/
LOCATION:Freedom I Fitness Center\, 4851 Burrel St\, Moody Air Force Base\, GA\, 31699\, United States
CATEGORIES:Fitness
ATTACH;FMTTYPE=image/png:https://moody23fss.com/wp-content/uploads/2026/03/crossfit-1920-x-1080-px-2.png
END:VEVENT
BEGIN:VEVENT
DTSTART;TZID=America/New_York:20270708T050000
DTEND;TZID=America/New_York:20270708T060000
DTSTAMP:20260422T065433
CREATED:20260327T125751Z
LAST-MODIFIED:20260327T143743Z
UID:10005197-1815022800-1815026400@moody23fss.com
SUMMARY:CrossFit with Chrisha
DESCRIPTION:Free\, hour-long CrossFit classes led by a certified CrossFit coach. Open to athletes of all levels\, 16 years and older. Must register to participate: https://calendly.com/moodyafbfitness/crossfit-moody \nFreedom I Fitness Center/CrossFit Moody is an official CrossFit affiliate.
URL:https://moody23fss.com/event/crossfit-with-chrisha/2027-07-08/
LOCATION:Freedom I Fitness Center\, 4851 Burrel St\, Moody Air Force Base\, GA\, 31699\, United States
CATEGORIES:Fitness
ATTACH;FMTTYPE=image/png:https://moody23fss.com/wp-content/uploads/2026/03/crossfit-1920-x-1080-px-2.png
END:VEVENT
BEGIN:VEVENT
DTSTART;TZID=America/New_York:20270713T050000
DTEND;TZID=America/New_York:20270713T060000
DTSTAMP:20260422T065433
CREATED:20260327T125751Z
LAST-MODIFIED:20260327T143743Z
UID:10005198-1815454800-1815458400@moody23fss.com
SUMMARY:CrossFit with Chrisha
DESCRIPTION:Free\, hour-long CrossFit classes led by a certified CrossFit coach. Open to athletes of all levels\, 16 years and older. Must register to participate: https://calendly.com/moodyafbfitness/crossfit-moody \nFreedom I Fitness Center/CrossFit Moody is an official CrossFit affiliate.
URL:https://moody23fss.com/event/crossfit-with-chrisha/2027-07-13/
LOCATION:Freedom I Fitness Center\, 4851 Burrel St\, Moody Air Force Base\, GA\, 31699\, United States
CATEGORIES:Fitness
ATTACH;FMTTYPE=image/png:https://moody23fss.com/wp-content/uploads/2026/03/crossfit-1920-x-1080-px-2.png
END:VEVENT
BEGIN:VEVENT
DTSTART;TZID=America/New_York:20270715T050000
DTEND;TZID=America/New_York:20270715T060000
DTSTAMP:20260422T065433
CREATED:20260327T125751Z
LAST-MODIFIED:20260327T143743Z
UID:10005199-1815627600-1815631200@moody23fss.com
SUMMARY:CrossFit with Chrisha
DESCRIPTION:Free\, hour-long CrossFit classes led by a certified CrossFit coach. Open to athletes of all levels\, 16 years and older. Must register to participate: https://calendly.com/moodyafbfitness/crossfit-moody \nFreedom I Fitness Center/CrossFit Moody is an official CrossFit affiliate.
URL:https://moody23fss.com/event/crossfit-with-chrisha/2027-07-15/
LOCATION:Freedom I Fitness Center\, 4851 Burrel St\, Moody Air Force Base\, GA\, 31699\, United States
CATEGORIES:Fitness
ATTACH;FMTTYPE=image/png:https://moody23fss.com/wp-content/uploads/2026/03/crossfit-1920-x-1080-px-2.png
END:VEVENT
BEGIN:VEVENT
DTSTART;TZID=America/New_York:20270720T050000
DTEND;TZID=America/New_York:20270720T060000
DTSTAMP:20260422T065433
CREATED:20260327T125751Z
LAST-MODIFIED:20260327T143743Z
UID:10005200-1816059600-1816063200@moody23fss.com
SUMMARY:CrossFit with Chrisha
DESCRIPTION:Free\, hour-long CrossFit classes led by a certified CrossFit coach. Open to athletes of all levels\, 16 years and older. Must register to participate: https://calendly.com/moodyafbfitness/crossfit-moody \nFreedom I Fitness Center/CrossFit Moody is an official CrossFit affiliate.
URL:https://moody23fss.com/event/crossfit-with-chrisha/2027-07-20/
LOCATION:Freedom I Fitness Center\, 4851 Burrel St\, Moody Air Force Base\, GA\, 31699\, United States
CATEGORIES:Fitness
ATTACH;FMTTYPE=image/png:https://moody23fss.com/wp-content/uploads/2026/03/crossfit-1920-x-1080-px-2.png
END:VEVENT
BEGIN:VEVENT
DTSTART;TZID=America/New_York:20270722T050000
DTEND;TZID=America/New_York:20270722T060000
DTSTAMP:20260422T065433
CREATED:20260327T125751Z
LAST-MODIFIED:20260327T143743Z
UID:10005201-1816232400-1816236000@moody23fss.com
SUMMARY:CrossFit with Chrisha
DESCRIPTION:Free\, hour-long CrossFit classes led by a certified CrossFit coach. Open to athletes of all levels\, 16 years and older. Must register to participate: https://calendly.com/moodyafbfitness/crossfit-moody \nFreedom I Fitness Center/CrossFit Moody is an official CrossFit affiliate.
URL:https://moody23fss.com/event/crossfit-with-chrisha/2027-07-22/
LOCATION:Freedom I Fitness Center\, 4851 Burrel St\, Moody Air Force Base\, GA\, 31699\, United States
CATEGORIES:Fitness
ATTACH;FMTTYPE=image/png:https://moody23fss.com/wp-content/uploads/2026/03/crossfit-1920-x-1080-px-2.png
END:VEVENT
BEGIN:VEVENT
DTSTART;TZID=America/New_York:20270727T050000
DTEND;TZID=America/New_York:20270727T060000
DTSTAMP:20260422T065433
CREATED:20260327T125751Z
LAST-MODIFIED:20260327T143743Z
UID:10005202-1816664400-1816668000@moody23fss.com
SUMMARY:CrossFit with Chrisha
DESCRIPTION:Free\, hour-long CrossFit classes led by a certified CrossFit coach. Open to athletes of all levels\, 16 years and older. Must register to participate: https://calendly.com/moodyafbfitness/crossfit-moody \nFreedom I Fitness Center/CrossFit Moody is an official CrossFit affiliate.
URL:https://moody23fss.com/event/crossfit-with-chrisha/2027-07-27/
LOCATION:Freedom I Fitness Center\, 4851 Burrel St\, Moody Air Force Base\, GA\, 31699\, United States
CATEGORIES:Fitness
ATTACH;FMTTYPE=image/png:https://moody23fss.com/wp-content/uploads/2026/03/crossfit-1920-x-1080-px-2.png
END:VEVENT
BEGIN:VEVENT
DTSTART;TZID=America/New_York:20270729T050000
DTEND;TZID=America/New_York:20270729T060000
DTSTAMP:20260422T065433
CREATED:20260327T125751Z
LAST-MODIFIED:20260327T143743Z
UID:10005203-1816837200-1816840800@moody23fss.com
SUMMARY:CrossFit with Chrisha
DESCRIPTION:Free\, hour-long CrossFit classes led by a certified CrossFit coach. Open to athletes of all levels\, 16 years and older. Must register to participate: https://calendly.com/moodyafbfitness/crossfit-moody \nFreedom I Fitness Center/CrossFit Moody is an official CrossFit affiliate.
URL:https://moody23fss.com/event/crossfit-with-chrisha/2027-07-29/
LOCATION:Freedom I Fitness Center\, 4851 Burrel St\, Moody Air Force Base\, GA\, 31699\, United States
CATEGORIES:Fitness
ATTACH;FMTTYPE=image/png:https://moody23fss.com/wp-content/uploads/2026/03/crossfit-1920-x-1080-px-2.png
END:VEVENT
END:VCALENDAR