BEGIN:VCALENDAR
VERSION:2.0
PRODID:-//Moody AFB - ECPv6.15.20//NONSGML v1.0//EN
CALSCALE:GREGORIAN
METHOD:PUBLISH
X-WR-CALNAME:Moody AFB
X-ORIGINAL-URL:https://moody23fss.com
X-WR-CALDESC:Events for Moody AFB
REFRESH-INTERVAL;VALUE=DURATION:PT1H
X-Robots-Tag:noindex
X-PUBLISHED-TTL:PT1H
BEGIN:VTIMEZONE
TZID:America/New_York
BEGIN:DAYLIGHT
TZOFFSETFROM:-0500
TZOFFSETTO:-0400
TZNAME:EDT
DTSTART:20260308T070000
END:DAYLIGHT
BEGIN:STANDARD
TZOFFSETFROM:-0400
TZOFFSETTO:-0500
TZNAME:EST
DTSTART:20261101T060000
END:STANDARD
BEGIN:DAYLIGHT
TZOFFSETFROM:-0500
TZOFFSETTO:-0400
TZNAME:EDT
DTSTART:20270314T070000
END:DAYLIGHT
BEGIN:STANDARD
TZOFFSETFROM:-0400
TZOFFSETTO:-0500
TZNAME:EST
DTSTART:20271107T060000
END:STANDARD
BEGIN:DAYLIGHT
TZOFFSETFROM:-0500
TZOFFSETTO:-0400
TZNAME:EDT
DTSTART:20280312T070000
END:DAYLIGHT
BEGIN:STANDARD
TZOFFSETFROM:-0400
TZOFFSETTO:-0500
TZNAME:EST
DTSTART:20281105T060000
END:STANDARD
END:VTIMEZONE
BEGIN:VEVENT
DTSTART;TZID=America/New_York:20270803T050000
DTEND;TZID=America/New_York:20270803T060000
DTSTAMP:20260422T092420
CREATED:20260327T125751Z
LAST-MODIFIED:20260327T143743Z
UID:10005204-1817269200-1817272800@moody23fss.com
SUMMARY:CrossFit with Chrisha
DESCRIPTION:Free\, hour-long CrossFit classes led by a certified CrossFit coach. Open to athletes of all levels\, 16 years and older. Must register to participate: https://calendly.com/moodyafbfitness/crossfit-moody \nFreedom I Fitness Center/CrossFit Moody is an official CrossFit affiliate.
URL:https://moody23fss.com/event/crossfit-with-chrisha/2027-08-03/
LOCATION:Freedom I Fitness Center\, 4851 Burrel St\, Moody Air Force Base\, GA\, 31699\, United States
CATEGORIES:Fitness
ATTACH;FMTTYPE=image/png:https://moody23fss.com/wp-content/uploads/2026/03/crossfit-1920-x-1080-px-2.png
END:VEVENT
BEGIN:VEVENT
DTSTART;TZID=America/New_York:20270805T050000
DTEND;TZID=America/New_York:20270805T060000
DTSTAMP:20260422T092420
CREATED:20260327T125751Z
LAST-MODIFIED:20260327T143743Z
UID:10005205-1817442000-1817445600@moody23fss.com
SUMMARY:CrossFit with Chrisha
DESCRIPTION:Free\, hour-long CrossFit classes led by a certified CrossFit coach. Open to athletes of all levels\, 16 years and older. Must register to participate: https://calendly.com/moodyafbfitness/crossfit-moody \nFreedom I Fitness Center/CrossFit Moody is an official CrossFit affiliate.
URL:https://moody23fss.com/event/crossfit-with-chrisha/2027-08-05/
LOCATION:Freedom I Fitness Center\, 4851 Burrel St\, Moody Air Force Base\, GA\, 31699\, United States
CATEGORIES:Fitness
ATTACH;FMTTYPE=image/png:https://moody23fss.com/wp-content/uploads/2026/03/crossfit-1920-x-1080-px-2.png
END:VEVENT
BEGIN:VEVENT
DTSTART;TZID=America/New_York:20270810T050000
DTEND;TZID=America/New_York:20270810T060000
DTSTAMP:20260422T092420
CREATED:20260327T125751Z
LAST-MODIFIED:20260327T143743Z
UID:10005206-1817874000-1817877600@moody23fss.com
SUMMARY:CrossFit with Chrisha
DESCRIPTION:Free\, hour-long CrossFit classes led by a certified CrossFit coach. Open to athletes of all levels\, 16 years and older. Must register to participate: https://calendly.com/moodyafbfitness/crossfit-moody \nFreedom I Fitness Center/CrossFit Moody is an official CrossFit affiliate.
URL:https://moody23fss.com/event/crossfit-with-chrisha/2027-08-10/
LOCATION:Freedom I Fitness Center\, 4851 Burrel St\, Moody Air Force Base\, GA\, 31699\, United States
CATEGORIES:Fitness
ATTACH;FMTTYPE=image/png:https://moody23fss.com/wp-content/uploads/2026/03/crossfit-1920-x-1080-px-2.png
END:VEVENT
BEGIN:VEVENT
DTSTART;TZID=America/New_York:20270812T050000
DTEND;TZID=America/New_York:20270812T060000
DTSTAMP:20260422T092420
CREATED:20260327T125751Z
LAST-MODIFIED:20260327T143743Z
UID:10005207-1818046800-1818050400@moody23fss.com
SUMMARY:CrossFit with Chrisha
DESCRIPTION:Free\, hour-long CrossFit classes led by a certified CrossFit coach. Open to athletes of all levels\, 16 years and older. Must register to participate: https://calendly.com/moodyafbfitness/crossfit-moody \nFreedom I Fitness Center/CrossFit Moody is an official CrossFit affiliate.
URL:https://moody23fss.com/event/crossfit-with-chrisha/2027-08-12/
LOCATION:Freedom I Fitness Center\, 4851 Burrel St\, Moody Air Force Base\, GA\, 31699\, United States
CATEGORIES:Fitness
ATTACH;FMTTYPE=image/png:https://moody23fss.com/wp-content/uploads/2026/03/crossfit-1920-x-1080-px-2.png
END:VEVENT
BEGIN:VEVENT
DTSTART;TZID=America/New_York:20270817T050000
DTEND;TZID=America/New_York:20270817T060000
DTSTAMP:20260422T092420
CREATED:20260327T125751Z
LAST-MODIFIED:20260327T143743Z
UID:10005208-1818478800-1818482400@moody23fss.com
SUMMARY:CrossFit with Chrisha
DESCRIPTION:Free\, hour-long CrossFit classes led by a certified CrossFit coach. Open to athletes of all levels\, 16 years and older. Must register to participate: https://calendly.com/moodyafbfitness/crossfit-moody \nFreedom I Fitness Center/CrossFit Moody is an official CrossFit affiliate.
URL:https://moody23fss.com/event/crossfit-with-chrisha/2027-08-17/
LOCATION:Freedom I Fitness Center\, 4851 Burrel St\, Moody Air Force Base\, GA\, 31699\, United States
CATEGORIES:Fitness
ATTACH;FMTTYPE=image/png:https://moody23fss.com/wp-content/uploads/2026/03/crossfit-1920-x-1080-px-2.png
END:VEVENT
BEGIN:VEVENT
DTSTART;TZID=America/New_York:20270819T050000
DTEND;TZID=America/New_York:20270819T060000
DTSTAMP:20260422T092420
CREATED:20260327T125751Z
LAST-MODIFIED:20260327T143743Z
UID:10005209-1818651600-1818655200@moody23fss.com
SUMMARY:CrossFit with Chrisha
DESCRIPTION:Free\, hour-long CrossFit classes led by a certified CrossFit coach. Open to athletes of all levels\, 16 years and older. Must register to participate: https://calendly.com/moodyafbfitness/crossfit-moody \nFreedom I Fitness Center/CrossFit Moody is an official CrossFit affiliate.
URL:https://moody23fss.com/event/crossfit-with-chrisha/2027-08-19/
LOCATION:Freedom I Fitness Center\, 4851 Burrel St\, Moody Air Force Base\, GA\, 31699\, United States
CATEGORIES:Fitness
ATTACH;FMTTYPE=image/png:https://moody23fss.com/wp-content/uploads/2026/03/crossfit-1920-x-1080-px-2.png
END:VEVENT
BEGIN:VEVENT
DTSTART;TZID=America/New_York:20270824T050000
DTEND;TZID=America/New_York:20270824T060000
DTSTAMP:20260422T092420
CREATED:20260327T125751Z
LAST-MODIFIED:20260327T143743Z
UID:10005210-1819083600-1819087200@moody23fss.com
SUMMARY:CrossFit with Chrisha
DESCRIPTION:Free\, hour-long CrossFit classes led by a certified CrossFit coach. Open to athletes of all levels\, 16 years and older. Must register to participate: https://calendly.com/moodyafbfitness/crossfit-moody \nFreedom I Fitness Center/CrossFit Moody is an official CrossFit affiliate.
URL:https://moody23fss.com/event/crossfit-with-chrisha/2027-08-24/
LOCATION:Freedom I Fitness Center\, 4851 Burrel St\, Moody Air Force Base\, GA\, 31699\, United States
CATEGORIES:Fitness
ATTACH;FMTTYPE=image/png:https://moody23fss.com/wp-content/uploads/2026/03/crossfit-1920-x-1080-px-2.png
END:VEVENT
BEGIN:VEVENT
DTSTART;TZID=America/New_York:20270826T050000
DTEND;TZID=America/New_York:20270826T060000
DTSTAMP:20260422T092420
CREATED:20260327T125751Z
LAST-MODIFIED:20260327T143743Z
UID:10005211-1819256400-1819260000@moody23fss.com
SUMMARY:CrossFit with Chrisha
DESCRIPTION:Free\, hour-long CrossFit classes led by a certified CrossFit coach. Open to athletes of all levels\, 16 years and older. Must register to participate: https://calendly.com/moodyafbfitness/crossfit-moody \nFreedom I Fitness Center/CrossFit Moody is an official CrossFit affiliate.
URL:https://moody23fss.com/event/crossfit-with-chrisha/2027-08-26/
LOCATION:Freedom I Fitness Center\, 4851 Burrel St\, Moody Air Force Base\, GA\, 31699\, United States
CATEGORIES:Fitness
ATTACH;FMTTYPE=image/png:https://moody23fss.com/wp-content/uploads/2026/03/crossfit-1920-x-1080-px-2.png
END:VEVENT
BEGIN:VEVENT
DTSTART;TZID=America/New_York:20270831T050000
DTEND;TZID=America/New_York:20270831T060000
DTSTAMP:20260422T092421
CREATED:20260327T125751Z
LAST-MODIFIED:20260327T143743Z
UID:10005212-1819688400-1819692000@moody23fss.com
SUMMARY:CrossFit with Chrisha
DESCRIPTION:Free\, hour-long CrossFit classes led by a certified CrossFit coach. Open to athletes of all levels\, 16 years and older. Must register to participate: https://calendly.com/moodyafbfitness/crossfit-moody \nFreedom I Fitness Center/CrossFit Moody is an official CrossFit affiliate.
URL:https://moody23fss.com/event/crossfit-with-chrisha/2027-08-31/
LOCATION:Freedom I Fitness Center\, 4851 Burrel St\, Moody Air Force Base\, GA\, 31699\, United States
CATEGORIES:Fitness
ATTACH;FMTTYPE=image/png:https://moody23fss.com/wp-content/uploads/2026/03/crossfit-1920-x-1080-px-2.png
END:VEVENT
END:VCALENDAR