BEGIN:VCALENDAR
VERSION:2.0
PRODID:-//Moody AFB - ECPv6.15.20//NONSGML v1.0//EN
CALSCALE:GREGORIAN
METHOD:PUBLISH
X-WR-CALNAME:Moody AFB
X-ORIGINAL-URL:https://moody23fss.com
X-WR-CALDESC:Events for Moody AFB
REFRESH-INTERVAL;VALUE=DURATION:PT1H
X-Robots-Tag:noindex
X-PUBLISHED-TTL:PT1H
BEGIN:VTIMEZONE
TZID:America/New_York
BEGIN:DAYLIGHT
TZOFFSETFROM:-0500
TZOFFSETTO:-0400
TZNAME:EDT
DTSTART:20260308T070000
END:DAYLIGHT
BEGIN:STANDARD
TZOFFSETFROM:-0400
TZOFFSETTO:-0500
TZNAME:EST
DTSTART:20261101T060000
END:STANDARD
BEGIN:DAYLIGHT
TZOFFSETFROM:-0500
TZOFFSETTO:-0400
TZNAME:EDT
DTSTART:20270314T070000
END:DAYLIGHT
BEGIN:STANDARD
TZOFFSETFROM:-0400
TZOFFSETTO:-0500
TZNAME:EST
DTSTART:20271107T060000
END:STANDARD
BEGIN:DAYLIGHT
TZOFFSETFROM:-0500
TZOFFSETTO:-0400
TZNAME:EDT
DTSTART:20280312T070000
END:DAYLIGHT
BEGIN:STANDARD
TZOFFSETFROM:-0400
TZOFFSETTO:-0500
TZNAME:EST
DTSTART:20281105T060000
END:STANDARD
END:VTIMEZONE
BEGIN:VEVENT
DTSTART;TZID=America/New_York:20271102T050000
DTEND;TZID=America/New_York:20271102T060000
DTSTAMP:20260422T150511
CREATED:20260327T125751Z
LAST-MODIFIED:20260327T143743Z
UID:10005230-1825131600-1825135200@moody23fss.com
SUMMARY:CrossFit with Chrisha
DESCRIPTION:Free\, hour-long CrossFit classes led by a certified CrossFit coach. Open to athletes of all levels\, 16 years and older. Must register to participate: https://calendly.com/moodyafbfitness/crossfit-moody \nFreedom I Fitness Center/CrossFit Moody is an official CrossFit affiliate.
URL:https://moody23fss.com/event/crossfit-with-chrisha/2027-11-02/
LOCATION:Freedom I Fitness Center\, 4851 Burrel St\, Moody Air Force Base\, GA\, 31699\, United States
CATEGORIES:Fitness
ATTACH;FMTTYPE=image/png:https://moody23fss.com/wp-content/uploads/2026/03/crossfit-1920-x-1080-px-2.png
END:VEVENT
BEGIN:VEVENT
DTSTART;TZID=America/New_York:20271104T050000
DTEND;TZID=America/New_York:20271104T060000
DTSTAMP:20260422T150511
CREATED:20260327T125751Z
LAST-MODIFIED:20260327T143743Z
UID:10005231-1825304400-1825308000@moody23fss.com
SUMMARY:CrossFit with Chrisha
DESCRIPTION:Free\, hour-long CrossFit classes led by a certified CrossFit coach. Open to athletes of all levels\, 16 years and older. Must register to participate: https://calendly.com/moodyafbfitness/crossfit-moody \nFreedom I Fitness Center/CrossFit Moody is an official CrossFit affiliate.
URL:https://moody23fss.com/event/crossfit-with-chrisha/2027-11-04/
LOCATION:Freedom I Fitness Center\, 4851 Burrel St\, Moody Air Force Base\, GA\, 31699\, United States
CATEGORIES:Fitness
ATTACH;FMTTYPE=image/png:https://moody23fss.com/wp-content/uploads/2026/03/crossfit-1920-x-1080-px-2.png
END:VEVENT
BEGIN:VEVENT
DTSTART;TZID=America/New_York:20271109T050000
DTEND;TZID=America/New_York:20271109T060000
DTSTAMP:20260422T150511
CREATED:20260327T125751Z
LAST-MODIFIED:20260327T143743Z
UID:10005232-1825736400-1825740000@moody23fss.com
SUMMARY:CrossFit with Chrisha
DESCRIPTION:Free\, hour-long CrossFit classes led by a certified CrossFit coach. Open to athletes of all levels\, 16 years and older. Must register to participate: https://calendly.com/moodyafbfitness/crossfit-moody \nFreedom I Fitness Center/CrossFit Moody is an official CrossFit affiliate.
URL:https://moody23fss.com/event/crossfit-with-chrisha/2027-11-09/
LOCATION:Freedom I Fitness Center\, 4851 Burrel St\, Moody Air Force Base\, GA\, 31699\, United States
CATEGORIES:Fitness
ATTACH;FMTTYPE=image/png:https://moody23fss.com/wp-content/uploads/2026/03/crossfit-1920-x-1080-px-2.png
END:VEVENT
BEGIN:VEVENT
DTSTART;TZID=America/New_York:20271111T050000
DTEND;TZID=America/New_York:20271111T060000
DTSTAMP:20260422T150511
CREATED:20260327T125751Z
LAST-MODIFIED:20260327T143743Z
UID:10005233-1825909200-1825912800@moody23fss.com
SUMMARY:CrossFit with Chrisha
DESCRIPTION:Free\, hour-long CrossFit classes led by a certified CrossFit coach. Open to athletes of all levels\, 16 years and older. Must register to participate: https://calendly.com/moodyafbfitness/crossfit-moody \nFreedom I Fitness Center/CrossFit Moody is an official CrossFit affiliate.
URL:https://moody23fss.com/event/crossfit-with-chrisha/2027-11-11/
LOCATION:Freedom I Fitness Center\, 4851 Burrel St\, Moody Air Force Base\, GA\, 31699\, United States
CATEGORIES:Fitness
ATTACH;FMTTYPE=image/png:https://moody23fss.com/wp-content/uploads/2026/03/crossfit-1920-x-1080-px-2.png
END:VEVENT
BEGIN:VEVENT
DTSTART;TZID=America/New_York:20271116T050000
DTEND;TZID=America/New_York:20271116T060000
DTSTAMP:20260422T150511
CREATED:20260327T125751Z
LAST-MODIFIED:20260327T143743Z
UID:10005234-1826341200-1826344800@moody23fss.com
SUMMARY:CrossFit with Chrisha
DESCRIPTION:Free\, hour-long CrossFit classes led by a certified CrossFit coach. Open to athletes of all levels\, 16 years and older. Must register to participate: https://calendly.com/moodyafbfitness/crossfit-moody \nFreedom I Fitness Center/CrossFit Moody is an official CrossFit affiliate.
URL:https://moody23fss.com/event/crossfit-with-chrisha/2027-11-16/
LOCATION:Freedom I Fitness Center\, 4851 Burrel St\, Moody Air Force Base\, GA\, 31699\, United States
CATEGORIES:Fitness
ATTACH;FMTTYPE=image/png:https://moody23fss.com/wp-content/uploads/2026/03/crossfit-1920-x-1080-px-2.png
END:VEVENT
BEGIN:VEVENT
DTSTART;TZID=America/New_York:20271118T050000
DTEND;TZID=America/New_York:20271118T060000
DTSTAMP:20260422T150511
CREATED:20260327T125751Z
LAST-MODIFIED:20260327T143743Z
UID:10005235-1826514000-1826517600@moody23fss.com
SUMMARY:CrossFit with Chrisha
DESCRIPTION:Free\, hour-long CrossFit classes led by a certified CrossFit coach. Open to athletes of all levels\, 16 years and older. Must register to participate: https://calendly.com/moodyafbfitness/crossfit-moody \nFreedom I Fitness Center/CrossFit Moody is an official CrossFit affiliate.
URL:https://moody23fss.com/event/crossfit-with-chrisha/2027-11-18/
LOCATION:Freedom I Fitness Center\, 4851 Burrel St\, Moody Air Force Base\, GA\, 31699\, United States
CATEGORIES:Fitness
ATTACH;FMTTYPE=image/png:https://moody23fss.com/wp-content/uploads/2026/03/crossfit-1920-x-1080-px-2.png
END:VEVENT
BEGIN:VEVENT
DTSTART;TZID=America/New_York:20271123T050000
DTEND;TZID=America/New_York:20271123T060000
DTSTAMP:20260422T150511
CREATED:20260327T125751Z
LAST-MODIFIED:20260327T143743Z
UID:10005236-1826946000-1826949600@moody23fss.com
SUMMARY:CrossFit with Chrisha
DESCRIPTION:Free\, hour-long CrossFit classes led by a certified CrossFit coach. Open to athletes of all levels\, 16 years and older. Must register to participate: https://calendly.com/moodyafbfitness/crossfit-moody \nFreedom I Fitness Center/CrossFit Moody is an official CrossFit affiliate.
URL:https://moody23fss.com/event/crossfit-with-chrisha/2027-11-23/
LOCATION:Freedom I Fitness Center\, 4851 Burrel St\, Moody Air Force Base\, GA\, 31699\, United States
CATEGORIES:Fitness
ATTACH;FMTTYPE=image/png:https://moody23fss.com/wp-content/uploads/2026/03/crossfit-1920-x-1080-px-2.png
END:VEVENT
BEGIN:VEVENT
DTSTART;TZID=America/New_York:20271125T050000
DTEND;TZID=America/New_York:20271125T060000
DTSTAMP:20260422T150511
CREATED:20260327T125751Z
LAST-MODIFIED:20260327T143743Z
UID:10005237-1827118800-1827122400@moody23fss.com
SUMMARY:CrossFit with Chrisha
DESCRIPTION:Free\, hour-long CrossFit classes led by a certified CrossFit coach. Open to athletes of all levels\, 16 years and older. Must register to participate: https://calendly.com/moodyafbfitness/crossfit-moody \nFreedom I Fitness Center/CrossFit Moody is an official CrossFit affiliate.
URL:https://moody23fss.com/event/crossfit-with-chrisha/2027-11-25/
LOCATION:Freedom I Fitness Center\, 4851 Burrel St\, Moody Air Force Base\, GA\, 31699\, United States
CATEGORIES:Fitness
ATTACH;FMTTYPE=image/png:https://moody23fss.com/wp-content/uploads/2026/03/crossfit-1920-x-1080-px-2.png
END:VEVENT
BEGIN:VEVENT
DTSTART;TZID=America/New_York:20271130T050000
DTEND;TZID=America/New_York:20271130T060000
DTSTAMP:20260422T150511
CREATED:20260327T125751Z
LAST-MODIFIED:20260327T143743Z
UID:10005238-1827550800-1827554400@moody23fss.com
SUMMARY:CrossFit with Chrisha
DESCRIPTION:Free\, hour-long CrossFit classes led by a certified CrossFit coach. Open to athletes of all levels\, 16 years and older. Must register to participate: https://calendly.com/moodyafbfitness/crossfit-moody \nFreedom I Fitness Center/CrossFit Moody is an official CrossFit affiliate.
URL:https://moody23fss.com/event/crossfit-with-chrisha/2027-11-30/
LOCATION:Freedom I Fitness Center\, 4851 Burrel St\, Moody Air Force Base\, GA\, 31699\, United States
CATEGORIES:Fitness
ATTACH;FMTTYPE=image/png:https://moody23fss.com/wp-content/uploads/2026/03/crossfit-1920-x-1080-px-2.png
END:VEVENT
END:VCALENDAR